BEGIN:VCALENDAR
VERSION:2.0
PRODID:-//NAMI Vermont - ECPv6.15.17.1//NONSGML v1.0//EN
CALSCALE:GREGORIAN
METHOD:PUBLISH
X-ORIGINAL-URL:https://namivt.org
X-WR-CALDESC:Events for NAMI Vermont
REFRESH-INTERVAL;VALUE=DURATION:PT1H
X-Robots-Tag:noindex
X-PUBLISHED-TTL:PT1H
BEGIN:VTIMEZONE
TZID:America/New_York
BEGIN:DAYLIGHT
TZOFFSETFROM:-0500
TZOFFSETTO:-0400
TZNAME:EDT
DTSTART:20220313T070000
END:DAYLIGHT
BEGIN:STANDARD
TZOFFSETFROM:-0400
TZOFFSETTO:-0500
TZNAME:EST
DTSTART:20221106T060000
END:STANDARD
BEGIN:DAYLIGHT
TZOFFSETFROM:-0500
TZOFFSETTO:-0400
TZNAME:EDT
DTSTART:20230312T070000
END:DAYLIGHT
BEGIN:STANDARD
TZOFFSETFROM:-0400
TZOFFSETTO:-0500
TZNAME:EST
DTSTART:20231105T060000
END:STANDARD
BEGIN:DAYLIGHT
TZOFFSETFROM:-0500
TZOFFSETTO:-0400
TZNAME:EDT
DTSTART:20240310T070000
END:DAYLIGHT
BEGIN:STANDARD
TZOFFSETFROM:-0400
TZOFFSETTO:-0500
TZNAME:EST
DTSTART:20241103T060000
END:STANDARD
END:VTIMEZONE
BEGIN:VEVENT
DTSTART;TZID=America/New_York:20230528T110000
DTEND;TZID=America/New_York:20230528T120000
DTSTAMP:20260422T021059
CREATED:20230426T205909Z
LAST-MODIFIED:20230528T155832Z
UID:10044309-1685271600-1685275200@namivt.org
SUMMARY:NAMI FaithNet Presentation - Jericho United Methodist Church
DESCRIPTION:https://namivt.org/programs/faithnet/
URL:https://namivt.org/event/nami-faithnet-presentation-jericho-united-methodist-church/
LOCATION:Jericho United Methodist Church\, 71 VT-15\, Jericho\, VT 05465\, USA
END:VEVENT
END:VCALENDAR