BEGIN:VCALENDAR
VERSION:2.0
PRODID:-//NAMI Vermont - ECPv6.15.17.1//NONSGML v1.0//EN
CALSCALE:GREGORIAN
METHOD:PUBLISH
X-ORIGINAL-URL:https://namivt.org
X-WR-CALDESC:Events for NAMI Vermont
REFRESH-INTERVAL;VALUE=DURATION:PT1H
X-Robots-Tag:noindex
X-PUBLISHED-TTL:PT1H
BEGIN:VTIMEZONE
TZID:America/New_York
BEGIN:DAYLIGHT
TZOFFSETFROM:-0500
TZOFFSETTO:-0400
TZNAME:EDT
DTSTART:20220313T070000
END:DAYLIGHT
BEGIN:STANDARD
TZOFFSETFROM:-0400
TZOFFSETTO:-0500
TZNAME:EST
DTSTART:20221106T060000
END:STANDARD
BEGIN:DAYLIGHT
TZOFFSETFROM:-0500
TZOFFSETTO:-0400
TZNAME:EDT
DTSTART:20230312T070000
END:DAYLIGHT
BEGIN:STANDARD
TZOFFSETFROM:-0400
TZOFFSETTO:-0500
TZNAME:EST
DTSTART:20231105T060000
END:STANDARD
BEGIN:DAYLIGHT
TZOFFSETFROM:-0500
TZOFFSETTO:-0400
TZNAME:EDT
DTSTART:20240310T070000
END:DAYLIGHT
BEGIN:STANDARD
TZOFFSETFROM:-0400
TZOFFSETTO:-0500
TZNAME:EST
DTSTART:20241103T060000
END:STANDARD
END:VTIMEZONE
BEGIN:VEVENT
DTSTART;VALUE=DATE:20230910
DTEND;VALUE=DATE:20230911
DTSTAMP:20260422T191757
CREATED:20230831T172751Z
LAST-MODIFIED:20230910T232939Z
UID:10048573-1694304000-1694390399@namivt.org
SUMMARY:World Suicide Prevention Day
DESCRIPTION:
URL:https://namivt.org/event/world-suicide-prevention-day/
LOCATION:VT
END:VEVENT
BEGIN:VEVENT
DTSTART;TZID=America/New_York:20230910T100000
DTEND;TZID=America/New_York:20230910T130000
DTSTAMP:20260422T191757
CREATED:20230717T174319Z
LAST-MODIFIED:20230910T170222Z
UID:10046775-1694340000-1694350800@namivt.org
SUMMARY:NAMI Vermont Exhibit Table at the REVolution Rally
DESCRIPTION:We invite the community of the Northeast Kingdom to join The REVolution at our first anti-bullying rally! If you’re looking to take a stand against bullying\, this event is your invitation to be part of a movement that promotes kindness\, compassion\, and inclusivity in our schools and communities. Bullying affects lives\, leaving lasting scars and robbing individuals of their self-esteem. It’s time to take a stand and say no to bullying! Join us at this rally to raise awareness\, create change\, and support those who have experienced the harmful effects of bullying. This rally is open to everyone who believes in the power of kindness and wants to make a difference. Whether you’re a student\, parent\, educator\, or concerned community member\, your presence and support are vital. Let’s come together to show that bullying will not be tolerated and that we stand united against it. Spread the word about this important event! Invite your friends\, family\, and colleagues to join us in our mission to create safe and inclusive spaces for everyone. Share this event widely to raise awareness and inspire others to take action against bullying. Together\, we can build a future free from the grips of bullying\, where every individual feels accepted\, valued\, and supported. Join The REVolution and let’s make a lasting impact in our communities.
URL:https://namivt.org/event/exhibit-table-at-noah-act-gathering/
LOCATION:Bandstand Park\, 115 Park Ave\, Lyndonville\, VT 05851\, USA
END:VEVENT
BEGIN:VEVENT
DTSTART;TZID=America/New_York:20230910T100000
DTEND;TZID=America/New_York:20230910T190000
DTSTAMP:20260422T191757
CREATED:20230829T204600Z
LAST-MODIFIED:20230906T190010Z
UID:10048570-1694340000-1694372400@namivt.org
SUMMARY:NAMI Vermont Exhibit Table at Orleans County Fair
DESCRIPTION:NAMI Vermont will be at the Orleans County Fair partnering with Nurturing Tranquility. Find us inthe Floral Hall.
URL:https://namivt.org/event/nami-vermont-exhibit-table-at-orleans-county-fair-3/
LOCATION:Barton Fair\, 278 Roaring Brook Rd\, Barton\, VT 05822\, USA
END:VEVENT
BEGIN:VEVENT
DTSTART;TZID=America/New_York:20230910T120000
DTEND;TZID=America/New_York:20230910T170000
DTSTAMP:20260422T191757
CREATED:20230906T194343Z
LAST-MODIFIED:20230910T204314Z
UID:10048767-1694347200-1694365200@namivt.org
SUMMARY:NAMI Vermont Exhibits at Vermont Pride Festival
DESCRIPTION:NAMI Exhibits at Vermont Pride Festival.\n2023 Theme = Ruby: 40 Years of Fabulous\n \nWe are thrilled to announce the theme for this year’s momentous celebration: “Ruby: 40 Years of Fabulous”! As we commemorate the 40th Anniversary of Vermont’s first Pride march\, the theme “Ruby” symbolizes not only the milestone of our journey but also the enduring passion\, strength\, and love that have sustained our LGBTQIA+ community. \nJoin us on Sunday\, September 10th in downtown Burlington\, as we embrace the vibrant spirit of “Ruby” and reflect on the remarkable progress we have made as a community. Amidst the complexities of the political landscape we are living in and the challenges that we face\, this celebration is an opportunity to come together\, share love\, and celebrate our collective strength. \nWith “Ruby: 40 Years of Fabulous” as our guide\, we invite you to express yourselves with creativity and pride. Grab your Kinky Boots and your ruby red slippers because we’re ready to march! Together\, let’s shine bright like the precious gemstone\, igniting the streets with the energy of love\, unity\, and authenticity. \nAs we look back on our history and the brave individuals who came together for this movement 40 years ago\, we also look forward with hope and determination for a future where love and acceptance prevail. We are excited to celebrate with you and showcase the true essence of our community!
URL:https://namivt.org/event/nami-vermont-exhibits-at-vermont-pride-festival/
LOCATION:Waterfront Park\, 20 Lake St\, Burlington\, VT 05401\, USA
END:VEVENT
END:VCALENDAR