BEGIN:VCALENDAR
VERSION:2.0
PRODID:-//NAMI Vermont - ECPv6.15.17.1//NONSGML v1.0//EN
CALSCALE:GREGORIAN
METHOD:PUBLISH
X-ORIGINAL-URL:https://namivt.org
X-WR-CALDESC:Events for NAMI Vermont
REFRESH-INTERVAL;VALUE=DURATION:PT1H
X-Robots-Tag:noindex
X-PUBLISHED-TTL:PT1H
BEGIN:VTIMEZONE
TZID:America/New_York
BEGIN:DAYLIGHT
TZOFFSETFROM:-0500
TZOFFSETTO:-0400
TZNAME:EDT
DTSTART:20220313T070000
END:DAYLIGHT
BEGIN:STANDARD
TZOFFSETFROM:-0400
TZOFFSETTO:-0500
TZNAME:EST
DTSTART:20221106T060000
END:STANDARD
BEGIN:DAYLIGHT
TZOFFSETFROM:-0500
TZOFFSETTO:-0400
TZNAME:EDT
DTSTART:20230312T070000
END:DAYLIGHT
BEGIN:STANDARD
TZOFFSETFROM:-0400
TZOFFSETTO:-0500
TZNAME:EST
DTSTART:20231105T060000
END:STANDARD
BEGIN:DAYLIGHT
TZOFFSETFROM:-0500
TZOFFSETTO:-0400
TZNAME:EDT
DTSTART:20240310T070000
END:DAYLIGHT
BEGIN:STANDARD
TZOFFSETFROM:-0400
TZOFFSETTO:-0500
TZNAME:EST
DTSTART:20241103T060000
END:STANDARD
END:VTIMEZONE
BEGIN:VEVENT
DTSTART;TZID=America/New_York:20230914T130000
DTEND;TZID=America/New_York:20230914T140000
DTSTAMP:20260422T191934
CREATED:20230512T041239Z
LAST-MODIFIED:20230914T175835Z
UID:10044568-1694696400-1694700000@namivt.org
SUMMARY:Affiliate Leaders Meeting
DESCRIPTION:NAMI Vermont1 is inviting you to a scheduled Zoom meeting.\nJoin Zoom Meeting\nhttps://us02web.zoom.us/j/85476245746\nMeeting ID: 854 7624 5746\nOne tap mobile\n+13092053325\,\,85476245746# US\n+13126266799\,\,85476245746# US (Chicago)\nDial by your location\n        +1 309 205 3325 US\n        +1 312 626 6799 US (Chicago)\n        +1 646 558 8656 US (New York)\n        +1 646 931 3860 US\n        +1 301 715 8592 US (Washington DC)\n        +1 305 224 1968 US\n        +1 719 359 4580 US\n        +1 253 205 0468 US\n        +1 253 215 8782 US (Tacoma)\n        +1 346 248 7799 US (Houston)\n        +1 360 209 5623 US\n        +1 386 347 5053 US\n        +1 507 473 4847 US\n        +1 564 217 2000 US\n        +1 669 444 9171 US\n        +1 669 900 9128 US (San Jose)\n        +1 689 278 1000 US\nMeeting ID: 854 7624 5746\nFind your local number: https://us02web.zoom.us/u/kOel2fezh
URL:https://namivt.org/event/affiliate-leaders-meeting-10/
LOCATION:https://us02web.zoom.us/j/85476245746
END:VEVENT
BEGIN:VEVENT
DTSTART;TZID=America/New_York:20230914T150000
DTEND;TZID=America/New_York:20230914T163000
DTSTAMP:20260422T191934
CREATED:20230621T211355Z
LAST-MODIFIED:20230914T195844Z
UID:10046082-1694703600-1694709000@namivt.org
SUMMARY:Burlington Connection Peer Support Group
DESCRIPTION:Meets at St Paul’s Episcopal Church\n2 Cherry Street (Commons Room)\nBurlington\, VT\nUse Main Entrance
URL:https://namivt.org/event/burlington-connection-peer-support-group-11/
LOCATION:Cathedral Church of St. Paul\, 2 Cherry St\, Burlington\, VT 05401\, USA
END:VEVENT
BEGIN:VEVENT
DTSTART;TZID=America/New_York:20230914T180000
DTEND;TZID=America/New_York:20230914T193000
DTSTAMP:20260422T191934
CREATED:20230621T211355Z
LAST-MODIFIED:20230914T233023Z
UID:10046083-1694714400-1694719800@namivt.org
SUMMARY:Barre Connection Peer Support Group
DESCRIPTION:Passcode: 052307Topic: Barre Connection Support GroupTime: Jul 6\, 2023 06:00 PM Eastern Time (US and Canada)        Every week on Thu\, until Dec 28\, 2023\, 26 occurrence(s)        Jul 6\, 2023 06:00 PM        Jul 13\, 2023 06:00 PM        Jul 20\, 2023 06:00 PM        Jul 27\, 2023 06:00 PM        Aug 3\, 2023 06:00 PM        Aug 10\, 2023 06:00 PM        Aug 17\, 2023 06:00 PM        Aug 24\, 2023 06:00 PM        Aug 31\, 2023 06:00 PM        Sep 7\, 2023 06:00 PM        Sep 14\, 2023 06:00 PM        Sep 21\, 2023 06:00 PM        Sep 28\, 2023 06:00 PM        Oct 5\, 2023 06:00 PM        Oct 12\, 2023 06:00 PM        Oct 19\, 2023 06:00 PM        Oct 26\, 2023 06:00 PM        Nov 2\, 2023 06:00 PM        Nov 9\, 2023 06:00 PM        Nov 16\, 2023 06:00 PM        Nov 23\, 2023 06:00 PM        Nov 30\, 2023 06:00 PM        Dec 7\, 2023 06:00 PM        Dec 14\, 2023 06:00 PM        Dec 21\, 2023 06:00 PM        Dec 28\, 2023 06:00 PMPlease download and import the following iCalendar (.ics) files to your calendar system.Weekly: https://us02web.zoom.us/meeting/tZMsc-mvrjouGNMt4_sG4-X9Sh1jd4QSccFb/ics?icsToken=98tyKuGvrz8qHdSUtBuARpwEBY-gc-3ziH5bjY1wiEvaEAcHLzuvBeoTOLYrIevT \nJoin Zoom Meetinghttps://us02web.zoom.us/j/87140701427?pwd=SXpVSkFLS3pSOHZaMmJoY2dzc1UyZz09 \nMeeting ID: 871 4070 1427Passcode: 052307 \n— \nOne tap mobile+13052241968\,\,87140701427#\,\,\,\,*052307# US+13092053325\,\,87140701427#\,\,\,\,*052307# US \n— \nDial by your location• +1 305 224 1968 US• +1 309 205 3325 US• +1 312 626 6799 US (Chicago)• +1 646 558 8656 US (New York)• +1 646 931 3860 US• +1 301 715 8592 US (Washington DC)• +1 253 215 8782 US (Tacoma)• +1 346 248 7799 US (Houston)• +1 360 209 5623 US• +1 386 347 5053 US• +1 507 473 4847 US• +1 564 217 2000 US• +1 669 444 9171 US• +1 669 900 9128 US (San Jose)• +1 689 278 1000 US• +1 719 359 4580 US• +1 253 205 0468 US \nMeeting ID: 871 4070 1427Passcode: 052307
URL:https://namivt.org/event/barre-connection-peer-support-group-11/
LOCATION:Peoples Health & Wellness Clinic\, 51 Church St\, Barre\, VT 05641\, USA
END:VEVENT
END:VCALENDAR