BEGIN:VCALENDAR
VERSION:2.0
PRODID:-//NAMI Vermont - ECPv6.15.17.1//NONSGML v1.0//EN
CALSCALE:GREGORIAN
METHOD:PUBLISH
X-ORIGINAL-URL:https://namivt.org
X-WR-CALDESC:Events for NAMI Vermont
REFRESH-INTERVAL;VALUE=DURATION:PT1H
X-Robots-Tag:noindex
X-PUBLISHED-TTL:PT1H
BEGIN:VTIMEZONE
TZID:America/New_York
BEGIN:DAYLIGHT
TZOFFSETFROM:-0500
TZOFFSETTO:-0400
TZNAME:EDT
DTSTART:20220313T070000
END:DAYLIGHT
BEGIN:STANDARD
TZOFFSETFROM:-0400
TZOFFSETTO:-0500
TZNAME:EST
DTSTART:20221106T060000
END:STANDARD
BEGIN:DAYLIGHT
TZOFFSETFROM:-0500
TZOFFSETTO:-0400
TZNAME:EDT
DTSTART:20230312T070000
END:DAYLIGHT
BEGIN:STANDARD
TZOFFSETFROM:-0400
TZOFFSETTO:-0500
TZNAME:EST
DTSTART:20231105T060000
END:STANDARD
BEGIN:DAYLIGHT
TZOFFSETFROM:-0500
TZOFFSETTO:-0400
TZNAME:EDT
DTSTART:20240310T070000
END:DAYLIGHT
BEGIN:STANDARD
TZOFFSETFROM:-0400
TZOFFSETTO:-0500
TZNAME:EST
DTSTART:20241103T060000
END:STANDARD
END:VTIMEZONE
BEGIN:VEVENT
DTSTART;TZID=America/New_York:20230915T180000
DTEND;TZID=America/New_York:20230915T230000
DTSTAMP:20260422T191903
CREATED:20230829T195746Z
LAST-MODIFIED:20230916T023628Z
UID:10048561-1694800800-1694818800@namivt.org
SUMMARY:An Event That Matters.
DESCRIPTION:Join us at “An Event that Matters” Fundraiser supporting NAMI Vermont at the Elks Lodge in Barre\, VT. NAMI Vermont will be present with a brochure table.\nJoin with Google Meet: https://meet.google.com/rat-reao-ndj\nOr dial: (US) +1 540-603-1744 PIN: 136507065#\nLearn more about Meet at: https://support.google.com/a/users/answer/9282720
URL:https://namivt.org/event/an-event-that-matters/
LOCATION:Elks Lodge\, 10 Jefferson St\, Barre\, VT 05641\, USA
END:VEVENT
END:VCALENDAR