BEGIN:VCALENDAR
VERSION:2.0
PRODID:-//NAMI Vermont - ECPv6.15.17.1//NONSGML v1.0//EN
CALSCALE:GREGORIAN
METHOD:PUBLISH
X-WR-CALNAME:NAMI Vermont
X-ORIGINAL-URL:https://namivt.org
X-WR-CALDESC:Events for NAMI Vermont
REFRESH-INTERVAL;VALUE=DURATION:PT1H
X-Robots-Tag:noindex
X-PUBLISHED-TTL:PT1H
BEGIN:VTIMEZONE
TZID:America/New_York
BEGIN:DAYLIGHT
TZOFFSETFROM:-0500
TZOFFSETTO:-0400
TZNAME:EDT
DTSTART:20220313T070000
END:DAYLIGHT
BEGIN:STANDARD
TZOFFSETFROM:-0400
TZOFFSETTO:-0500
TZNAME:EST
DTSTART:20221106T060000
END:STANDARD
BEGIN:DAYLIGHT
TZOFFSETFROM:-0500
TZOFFSETTO:-0400
TZNAME:EDT
DTSTART:20230312T070000
END:DAYLIGHT
BEGIN:STANDARD
TZOFFSETFROM:-0400
TZOFFSETTO:-0500
TZNAME:EST
DTSTART:20231105T060000
END:STANDARD
BEGIN:DAYLIGHT
TZOFFSETFROM:-0500
TZOFFSETTO:-0400
TZNAME:EDT
DTSTART:20240310T070000
END:DAYLIGHT
BEGIN:STANDARD
TZOFFSETFROM:-0400
TZOFFSETTO:-0500
TZNAME:EST
DTSTART:20241103T060000
END:STANDARD
END:VTIMEZONE
BEGIN:VEVENT
DTSTART;TZID=America/New_York:20231010T150000
DTEND;TZID=America/New_York:20231010T160000
DTSTAMP:20260419T085045
CREATED:20230302T191635Z
LAST-MODIFIED:20230321T141527Z
UID:10043089-1696950000-1696953600@namivt.org
SUMMARY:Events Committee Meeting
DESCRIPTION:NAMI Vermont1 is inviting you to a scheduled Zoom meeting.\nJoin Zoom Meeting\nhttps://us02web.zoom.us/j/84789300138\nMeeting ID: 847 8930 0138\nOne tap mobile\n+13126266799\,\,84789300138# US (Chicago)\n+16465588656\,\,84789300138# US (New York)\nDial by your location\n        +1 312 626 6799 US (Chicago)\n        +1 646 558 8656 US (New York)\n        +1 646 931 3860 US\n        +1 301 715 8592 US (Washington DC)\n        +1 309 205 3325 US\n        +1 669 900 9128 US (San Jose)\n        +1 719 359 4580 US\n        +1 253 215 8782 US (Tacoma)\n        +1 346 248 7799 US (Houston)\n        +1 360 209 5623 US\n        +1 386 347 5053 US\n        +1 564 217 2000 US\n        +1 669 444 9171 US\nMeeting ID: 847 8930 0138\nFind your local number: https://us02web.zoom.us/u/kgpzcRggm
URL:https://namivt.org/event/events-committee-meeting-141/
LOCATION:https://us02web.zoom.us/j/84789300138
END:VEVENT
BEGIN:VEVENT
DTSTART;TZID=America/New_York:20231010T180000
DTEND;TZID=America/New_York:20231010T203000
DTSTAMP:20260419T085045
CREATED:20230720T192846Z
LAST-MODIFIED:20231011T001416Z
UID:10046896-1696960800-1696969800@namivt.org
SUMMARY:Family-to-Family class - VIRTUAL Central Vermont
DESCRIPTION:Passcode to enter the meeting will be given following registration and acceptance into the course \nTopic: Family-to-Family VIRTUAL – Central Vermont AffiliateTime: Oct 3\, 2023 06:00 PM Eastern Time (US and Canada)        Every week on Tue\, until Nov 21\, 2023\, 8 occurrence(s)        Oct 3\, 2023 06:00 PM        Oct 10\, 2023 06:00 PM        Oct 17\, 2023 06:00 PM        Oct 24\, 2023 06:00 PM        Oct 31\, 2023 06:00 PM        Nov 7\, 2023 06:00 PM        Nov 14\, 2023 06:00 PM        Nov 21\, 2023 06:00 PMPlease download and import the following iCalendar (.ics) files to your calendar system.Weekly: https://us02web.zoom.us/meeting/tZYufuqhqTwpGNKj8-yLSzxzWFvS1tbXVSjm/ics?icsToken=98tyKuGqrTIpE9OSsxuBRpwQA4r4b_PwtmZejY12lkeoGgxgeBvsAcRUAeNrEuDm \nJoin Zoom Meetinghttps://us02web.zoom.us/j/82393977326?pwd=Z2NpcnRYMDh0Wm03SEJaV1V1YXB4UT09 \nMeeting ID: 823 9397 7326 \n— \nOne tap mobile+16465588656\,\,82393977326# US (New York)+16469313860\,\,82393977326# US \n— \nDial by your location• +1 646 558 8656 US (New York)• +1 646 931 3860 US• +1 301 715 8592 US (Washington DC)• +1 305 224 1968 US• +1 309 205 3325 US• +1 312 626 6799 US (Chicago)• +1 719 359 4580 US• +1 253 205 0468 US• +1 253 215 8782 US (Tacoma)• +1 346 248 7799 US (Houston)• +1 360 209 5623 US• +1 386 347 5053 US• +1 507 473 4847 US• +1 564 217 2000 US• +1 669 444 9171 US• +1 669 900 9128 US (San Jose)• +1 689 278 1000 US \nMeeting ID: 823 9397 7326 \nFind your local number: https://us02web.zoom.us/u/kb5Z82qHnt
URL:https://namivt.org/event/family-to-family-class-virtual-central-vermont-2/
END:VEVENT
BEGIN:VEVENT
DTSTART;TZID=America/New_York:20231010T190000
DTEND;TZID=America/New_York:20231010T203000
DTSTAMP:20260419T085045
CREATED:20230606T214422Z
LAST-MODIFIED:20231011T001417Z
UID:10045450-1696964400-1696969800@namivt.org
SUMMARY:Burlington Family Support Group (In Person)
DESCRIPTION:Please feel free to call Jim Johnson  if you have any questions or need more information!802/355-0803 \nPark at the South entrance\, come through the door\, up the stairs\, and NAMI Vermont is the first office on the right.
URL:https://namivt.org/event/burlington-family-support-group-in-person-14/
LOCATION:NAMI Vermont\, 600 Blair Park Rd\, Ste 301\, Williston\, VT
END:VEVENT
END:VCALENDAR