BEGIN:VCALENDAR
VERSION:2.0
PRODID:-//NAMI Vermont - ECPv6.15.17.1//NONSGML v1.0//EN
CALSCALE:GREGORIAN
METHOD:PUBLISH
X-ORIGINAL-URL:https://namivt.org
X-WR-CALDESC:Events for NAMI Vermont
REFRESH-INTERVAL;VALUE=DURATION:PT1H
X-Robots-Tag:noindex
X-PUBLISHED-TTL:PT1H
BEGIN:VTIMEZONE
TZID:America/New_York
BEGIN:DAYLIGHT
TZOFFSETFROM:-0500
TZOFFSETTO:-0400
TZNAME:EDT
DTSTART:20230312T070000
END:DAYLIGHT
BEGIN:STANDARD
TZOFFSETFROM:-0400
TZOFFSETTO:-0500
TZNAME:EST
DTSTART:20231105T060000
END:STANDARD
BEGIN:DAYLIGHT
TZOFFSETFROM:-0500
TZOFFSETTO:-0400
TZNAME:EDT
DTSTART:20240310T070000
END:DAYLIGHT
BEGIN:STANDARD
TZOFFSETFROM:-0400
TZOFFSETTO:-0500
TZNAME:EST
DTSTART:20241103T060000
END:STANDARD
BEGIN:DAYLIGHT
TZOFFSETFROM:-0500
TZOFFSETTO:-0400
TZNAME:EDT
DTSTART:20250309T070000
END:DAYLIGHT
BEGIN:STANDARD
TZOFFSETFROM:-0400
TZOFFSETTO:-0500
TZNAME:EST
DTSTART:20251102T060000
END:STANDARD
END:VTIMEZONE
BEGIN:VEVENT
DTSTART;VALUE=DATE:20240219
DTEND;VALUE=DATE:20240220
DTSTAMP:20260421T071933
CREATED:20231201T214418Z
LAST-MODIFIED:20240219T175815Z
UID:10053784-1708300800-1708387199@namivt.org
SUMMARY:NAMI VERMONT CLOSED (Washington's Birthday)
DESCRIPTION:
URL:https://namivt.org/event/nami-vermont-closed-washingtons-birthday/
END:VEVENT
BEGIN:VEVENT
DTSTART;TZID=America/New_York:20240219T120000
DTEND;TZID=America/New_York:20240219T130000
DTSTAMP:20260421T071933
CREATED:20231102T180306Z
LAST-MODIFIED:20240219T175815Z
UID:10050315-1708344000-1708347600@namivt.org
SUMMARY:Governance Committee Meeting
DESCRIPTION:Call NAMI Vermont at 802-876-7949 x100 for the Zoom link.
URL:https://namivt.org/event/governance-committee-meeting-19/
END:VEVENT
BEGIN:VEVENT
DTSTART;TZID=America/New_York:20240219T180000
DTEND;TZID=America/New_York:20240219T193000
DTSTAMP:20260421T071933
CREATED:20231102T180021Z
LAST-MODIFIED:20240220T002717Z
UID:10050208-1708365600-1708371000@namivt.org
SUMMARY:Williston Family Support Group (In Person & via Zoom!)
DESCRIPTION:COMPLETE EVAUATION:  https://naminational.typeform.com/support-eval-en \nPlease feel free to call Margie Lemay if you have any questions or need more information (802/310-4199).If attending in person\, park at the South entrance\, go through the door\, up the stairs\, and the NAMI Vermont office will be the first office on your right.Join Zoom Meetinghttps://us02web.zoom.us/j/219920030 \nMeeting ID: 219 920 030 \nOne tap mobile+13126266799\,\,219920030# US (Chicago)+16465588656\,\,219920030# US (New York)
URL:https://namivt.org/event/williston-family-support-group-in-person-via-zoom-31/
LOCATION:IN PERSON:  NAMI Vermont Office\, 600 Blair Park Rd\, Ste 301\, Williston\, VT
END:VEVENT
BEGIN:VEVENT
DTSTART;TZID=America/New_York:20240219T183000
DTEND;TZID=America/New_York:20240219T200000
DTSTAMP:20260421T071933
CREATED:20231102T180306Z
LAST-MODIFIED:20240220T005743Z
UID:10050316-1708367400-1708372800@namivt.org
SUMMARY:Manchester Family Support Group (FSG) Meeting
DESCRIPTION:NAMI Vermont2 is inviting you to a scheduled Zoom meeting.\nJoin Zoom Meeting\nhttps://us02web.zoom.us/j/85845789961?pwd=YVJzQjd0TXZrRmhJL1dnZUxWQ1pDZz09\nMeeting ID: 858 4578 9961\nPasscode: 924160\nOne tap mobile\n+16469313860\,\,85845789961#\,\,\,\,*924160# US\n+13017158592\,\,85845789961#\,\,\,\,*924160# US (Washington DC)\nDial by your location\n        +1 646 931 3860 US\n        +1 301 715 8592 US (Washington DC)\n        +1 305 224 1968 US\n        +1 309 205 3325 US\n        +1 312 626 6799 US (Chicago)\n        +1 646 558 8656 US (New York)\n        +1 360 209 5623 US\n        +1 386 347 5053 US\n        +1 507 473 4847 US\n        +1 564 217 2000 US\n        +1 669 444 9171 US\n        +1 669 900 9128 US (San Jose)\n        +1 689 278 1000 US\n        +1 719 359 4580 US\n        +1 253 205 0468 US\n        +1 253 215 8782 US (Tacoma)\n        +1 346 248 7799 US (Houston)\nMeeting ID: 858 4578 9961\nPasscode: 924160
URL:https://namivt.org/event/manchester-family-support-group-fsg-meeting-19/
LOCATION:https://us02web.zoom.us/j/85845789961?pwd=YVJzQjd0TXZrRmhJL1dnZUxWQ1pDZz09
END:VEVENT
END:VCALENDAR