BEGIN:VCALENDAR
VERSION:2.0
PRODID:-//NAMI Vermont - ECPv6.15.17.1//NONSGML v1.0//EN
CALSCALE:GREGORIAN
METHOD:PUBLISH
X-WR-CALNAME:NAMI Vermont
X-ORIGINAL-URL:https://namivt.org
X-WR-CALDESC:Events for NAMI Vermont
REFRESH-INTERVAL;VALUE=DURATION:PT1H
X-Robots-Tag:noindex
X-PUBLISHED-TTL:PT1H
BEGIN:VTIMEZONE
TZID:America/New_York
BEGIN:DAYLIGHT
TZOFFSETFROM:-0500
TZOFFSETTO:-0400
TZNAME:EDT
DTSTART:20250309T070000
END:DAYLIGHT
BEGIN:STANDARD
TZOFFSETFROM:-0400
TZOFFSETTO:-0500
TZNAME:EST
DTSTART:20251102T060000
END:STANDARD
BEGIN:DAYLIGHT
TZOFFSETFROM:-0500
TZOFFSETTO:-0400
TZNAME:EDT
DTSTART:20260308T070000
END:DAYLIGHT
BEGIN:STANDARD
TZOFFSETFROM:-0400
TZOFFSETTO:-0500
TZNAME:EST
DTSTART:20261101T060000
END:STANDARD
BEGIN:DAYLIGHT
TZOFFSETFROM:-0500
TZOFFSETTO:-0400
TZNAME:EDT
DTSTART:20270314T070000
END:DAYLIGHT
BEGIN:STANDARD
TZOFFSETFROM:-0400
TZOFFSETTO:-0500
TZNAME:EST
DTSTART:20271107T060000
END:STANDARD
END:VTIMEZONE
BEGIN:VEVENT
DTSTART;TZID=America/New_York:20260420T180000
DTEND;TZID=America/New_York:20260420T193000
DTSTAMP:20260424T055836
CREATED:20260403T164053Z
LAST-MODIFIED:20260403T170725Z
UID:10081364-1776708000-1776713400@namivt.org
SUMMARY:Williston Family Support Group (HYBRID)
DESCRIPTION:Location: \nNAMI Vermont office\, 600 Blair Park Road\, Suite 301\, Williston\, VT 05495 \n  \nZoom: \nJoin Zoom Meeting https://us02web.zoom.us/j/85676589309 \nMeeting ID: 856 7658 9309 \nPhone: 646-558-8656
URL:https://namivt.org/event/williston-family-support-group-18/2026-04-20/
LOCATION:NAMI Vermont Office\, 600 Blair Park Road\, Suite 301\, Williston\, VT
CATEGORIES:Family Support Group
ATTACH;FMTTYPE=image/jpeg:https://namivt.org/wp-content/uploads/2022/04/NAMIFSG_color.jpg
END:VEVENT
END:VCALENDAR