BEGIN:VCALENDAR
VERSION:2.0
PRODID:-//NAMI Vermont - ECPv6.15.17.1//NONSGML v1.0//EN
CALSCALE:GREGORIAN
METHOD:PUBLISH
X-ORIGINAL-URL:https://namivt.org
X-WR-CALDESC:Events for NAMI Vermont
REFRESH-INTERVAL;VALUE=DURATION:PT1H
X-Robots-Tag:noindex
X-PUBLISHED-TTL:PT1H
BEGIN:VTIMEZONE
TZID:America/New_York
BEGIN:DAYLIGHT
TZOFFSETFROM:-0500
TZOFFSETTO:-0400
TZNAME:EDT
DTSTART:20210314T070000
END:DAYLIGHT
BEGIN:STANDARD
TZOFFSETFROM:-0400
TZOFFSETTO:-0500
TZNAME:EST
DTSTART:20211107T060000
END:STANDARD
BEGIN:DAYLIGHT
TZOFFSETFROM:-0500
TZOFFSETTO:-0400
TZNAME:EDT
DTSTART:20220313T070000
END:DAYLIGHT
BEGIN:STANDARD
TZOFFSETFROM:-0400
TZOFFSETTO:-0500
TZNAME:EST
DTSTART:20221106T060000
END:STANDARD
BEGIN:DAYLIGHT
TZOFFSETFROM:-0500
TZOFFSETTO:-0400
TZNAME:EDT
DTSTART:20230312T070000
END:DAYLIGHT
BEGIN:STANDARD
TZOFFSETFROM:-0400
TZOFFSETTO:-0500
TZNAME:EST
DTSTART:20231105T060000
END:STANDARD
END:VTIMEZONE
BEGIN:VEVENT
DTSTART;TZID=America/New_York:20221011T190000
DTEND;TZID=America/New_York:20221011T203000
DTSTAMP:20260419T090520
CREATED:20220928T151454Z
LAST-MODIFIED:20221012T002713Z
UID:10025389-1665514800-1665520200@namivt.org
SUMMARY:Burlington Family Support Group (In Person)
DESCRIPTION:Please feel free to call Jim Johnson  if you have any questions or need more information!802/355-0803 \nPark at the South entrance\, come through the door\, up the stairs\, and NAMI Vermont is the first office on the right.
URL:https://namivt.org/event/burlington-family-support-group-in-person/
LOCATION:NAMI Vermont\, 600 Blair Park Rd\, Ste 301\, Williston\, VT
END:VEVENT
BEGIN:VEVENT
DTSTART;TZID=America/New_York:20221012T183000
DTEND;TZID=America/New_York:20221012T200000
DTSTAMP:20260419T090520
CREATED:20220930T092808Z
LAST-MODIFIED:20220930T092808Z
UID:10036927-1665599400-1665604800@namivt.org
SUMMARY:Bennington Family Support Group
DESCRIPTION:Join Zoom Meetinghttps://us02web.zoom.us/j/86522173245?pwd=eFRUTzJ3bGxHcFF6WXoxaTFGdm8vQT09 \nMeeting ID: 865 2217 3245Passcode: 478112or dial by phone: +1 646 558 8656
URL:https://namivt.org/event/bennington-family-support-group-748/
END:VEVENT
BEGIN:VEVENT
DTSTART;TZID=America/New_York:20221013T130000
DTEND;TZID=America/New_York:20221013T140000
DTSTAMP:20260419T090520
CREATED:20220930T075733Z
LAST-MODIFIED:20220930T075733Z
UID:10036636-1665666000-1665669600@namivt.org
SUMMARY:Affiliate Leaders Meeting (Monthly)
DESCRIPTION:Join Zoom Meetinghttps://us02web.zoom.us/j/85476245746 \nMeeting ID: 854 7624 5746One tap mobile+16465588656\,\,85476245746# US (New York)+13017158592\,\,85476245746# US (Washington DC)
URL:https://namivt.org/event/affiliate-leaders-meeting-monthly-5538/
END:VEVENT
BEGIN:VEVENT
DTSTART;TZID=America/New_York:20221017T180000
DTEND;TZID=America/New_York:20221017T193000
DTSTAMP:20260419T090520
CREATED:20220819T163554Z
LAST-MODIFIED:20220920T163401Z
UID:10000618-1666029600-1666035000@namivt.org
SUMMARY:Williston Family Support Group
DESCRIPTION:Join Zoom Meetinghttps://us02web.zoom.us/j/219920030 \nMeeting ID: 219 920 030 \nOne tap mobile+13126266799\,\,219920030# US (Chicago)+16465588656\,\,219920030# US (New York)
URL:https://namivt.org/event/williston-family-support-group-5/
END:VEVENT
BEGIN:VEVENT
DTSTART;TZID=America/New_York:20221024T183000
DTEND;TZID=America/New_York:20221024T200000
DTSTAMP:20260419T090520
CREATED:20220930T104456Z
LAST-MODIFIED:20221018T154658Z
UID:10037228-1666636200-1666641600@namivt.org
SUMMARY:Central Vt Family Support Group Meeting
DESCRIPTION:Join Zoom Meetinghttps://us02web.zoom.us/j/89611248806 \nMeeting ID: 896 1124 8806 \nOne tap mobile+13126266799\,\,89611248806# US (Chicago)+16465588656\,\,89611248806# US (New York)
URL:https://namivt.org/event/central-vt-family-support-group-meeting-856/
END:VEVENT
BEGIN:VEVENT
DTSTART;TZID=America/New_York:20221025T190000
DTEND;TZID=America/New_York:20221025T203000
DTSTAMP:20260419T090520
CREATED:20220930T104708Z
LAST-MODIFIED:20221025T235846Z
UID:10037319-1666724400-1666729800@namivt.org
SUMMARY:Burlington Family Support Group
DESCRIPTION:Please feel free to call Jim Johnson  if you have any questions or need more information!802/355-0803 \nPark at the South entrance\, come through the door\, up the stairs\, and NAMI Vermont is the first office on the right.
URL:https://namivt.org/event/burlington-family-support-group-1389/
LOCATION:NAMI Vermont\, 600 Blair Park Rd\, Ste 301\, Williston\, VT
END:VEVENT
BEGIN:VEVENT
DTSTART;TZID=America/New_York:20221027T120000
DTEND;TZID=America/New_York:20221027T130000
DTSTAMP:20260419T090520
CREATED:20220819T163606Z
LAST-MODIFIED:20220825T151620Z
UID:10000629-1666872000-1666875600@namivt.org
SUMMARY:Connection Facilitators "Meet & Greet"
DESCRIPTION:Join Zoom Meeting\nhttps://us02web.zoom.us/j/81637218548
URL:https://namivt.org/event/connection-facilitators-meet-greet-4/
END:VEVENT
BEGIN:VEVENT
DTSTART;TZID=America/New_York:20221027T150000
DTEND;TZID=America/New_York:20221027T163000
DTSTAMP:20260419T090520
CREATED:20220930T104708Z
LAST-MODIFIED:20221027T202756Z
UID:10037320-1666882800-1666888200@namivt.org
SUMMARY:Burlington Connection Support Group
DESCRIPTION:Join Zoom Meetinghttps://us02web.zoom.us/j/445481065 \nMeeting ID: 445 481 065 \nOne tap mobile+16465588656\,\,445481065# US (New York)+13017158592\,\,445481065# US (Washington DC)
URL:https://namivt.org/event/burlington-connection-support-group-3497/
LOCATION:https://us02web.zoom.us/j/445481065
END:VEVENT
BEGIN:VEVENT
DTSTART;TZID=America/New_York:20221027T180000
DTEND;TZID=America/New_York:20221027T193000
DTSTAMP:20260419T090520
CREATED:20221026T191715Z
LAST-MODIFIED:20221027T231610Z
UID:10039776-1666893600-1666899000@namivt.org
SUMMARY:Ending the Silence Presentation (North Country Union High School)
DESCRIPTION:
URL:https://namivt.org/event/ending-the-silence-presentation-north-country-union-high-school/
END:VEVENT
BEGIN:VEVENT
DTSTART;TZID=America/New_York:20221028T083000
DTEND;TZID=America/New_York:20221028T153000
DTSTAMP:20260419T090520
CREATED:20221026T191715Z
LAST-MODIFIED:20221028T190354Z
UID:10039777-1666945800-1666971000@namivt.org
SUMMARY:Guardian Ad Litem Conference - Exhibit Table (Kathy Johnson)
DESCRIPTION:
URL:https://namivt.org/event/guardian-ad-litem-conference-exhibit-table-kathy-johnson/
END:VEVENT
BEGIN:VEVENT
DTSTART;TZID=America/New_York:20221101T180000
DTEND;TZID=America/New_York:20221101T193000
DTSTAMP:20260419T090520
CREATED:20221026T152757Z
LAST-MODIFIED:20221101T202956Z
UID:10039775-1667325600-1667331000@namivt.org
SUMMARY:Georgia Family Support Group
DESCRIPTION:Join Zoom Meetinghttps://us02web.zoom.us/j/625544744 \nMeeting ID: 625 544 744 \nOne tap mobile+13126266799\,\,625544744# US (Chicago)+16465588656\,\,625544744# US (New York)
URL:https://namivt.org/event/georgia-family-support-group/
END:VEVENT
BEGIN:VEVENT
DTSTART;TZID=America/New_York:20221103T120000
DTEND;TZID=America/New_York:20221103T130000
DTSTAMP:20260419T090520
CREATED:20221006T224255Z
LAST-MODIFIED:20221103T164211Z
UID:10039496-1667476800-1667480400@namivt.org
SUMMARY:Advocacy Committee Meeting
DESCRIPTION:NAMI Vermont1 is inviting you to a scheduled Zoom meeting.\nJoin Zoom Meeting\nhttps://us02web.zoom.us/j/82387878346\nMeeting ID: 823 8787 8346\nOne tap mobile\n+16469313860\,\,82387878346# US\n+13017158592\,\,82387878346# US (Washington DC)\nDial by your location\n        +1 646 931 3860 US\n        +1 301 715 8592 US (Washington DC)\n        +1 309 205 3325 US\n        +1 312 626 6799 US (Chicago)\n        +1 646 558 8656 US (New York)\n        +1 564 217 2000 US\n        +1 669 444 9171 US\n        +1 669 900 9128 US (San Jose)\n        +1 719 359 4580 US\n        +1 253 215 8782 US (Tacoma)\n        +1 346 248 7799 US (Houston)\n        +1 386 347 5053 US\nMeeting ID: 823 8787 8346\nFind your local number: https://us02web.zoom.us/u/kcAYmT4oK5
URL:https://namivt.org/event/advocacy-committee-meeting-282/
LOCATION:https://us02web.zoom.us/j/82387878346
END:VEVENT
BEGIN:VEVENT
DTSTART;TZID=America/New_York:20221107T180000
DTEND;TZID=America/New_York:20221107T193000
DTSTAMP:20260419T090520
CREATED:20220819T163619Z
LAST-MODIFIED:20220920T163403Z
UID:10000640-1667844000-1667849400@namivt.org
SUMMARY:Williston Family Support Group
DESCRIPTION:Join Zoom Meetinghttps://us02web.zoom.us/j/84592752810 \nMeeting ID: 845 9275 2810 \nOne tap mobile+13017158592\,\,84592752810# US (Washington DC)+13126266799\,\,84592752810# US (Chicago)
URL:https://namivt.org/event/williston-family-support-group-6/
END:VEVENT
BEGIN:VEVENT
DTSTART;TZID=America/New_York:20221108T190000
DTEND;TZID=America/New_York:20221108T203000
DTSTAMP:20260419T090520
CREATED:20220928T151552Z
LAST-MODIFIED:20221109T012918Z
UID:10025419-1667934000-1667939400@namivt.org
SUMMARY:Burlington Family Support Group (In Person)
DESCRIPTION:Please feel free to call Jim Johnson  if you have any questions or need more information!802/355-0803 \nPark at the South entrance\, come through the door\, up the stairs\, and NAMI Vermont is the first office on the right.
URL:https://namivt.org/event/burlington-family-support-group-in-person-2/
LOCATION:NAMI Vermont\, 600 Blair Park Rd\, Ste 301\, Williston\, VT
END:VEVENT
BEGIN:VEVENT
DTSTART;TZID=America/New_York:20221110T150000
DTEND;TZID=America/New_York:20221110T163000
DTSTAMP:20260419T090520
CREATED:20220930T152923Z
LAST-MODIFIED:20221110T205717Z
UID:10038318-1668092400-1668097800@namivt.org
SUMMARY:Burlington Connection Support Group
DESCRIPTION:Join Zoom Meetinghttps://us02web.zoom.us/j/445481065 \nMeeting ID: 445 481 065 \nOne tap mobile+16465588656\,\,445481065# US (New York)+13017158592\,\,445481065# US (Washington DC)
URL:https://namivt.org/event/burlington-connection-support-group-3586/
LOCATION:https://us02web.zoom.us/j/445481065
END:VEVENT
BEGIN:VEVENT
DTSTART;TZID=America/New_York:20221117T150000
DTEND;TZID=America/New_York:20221117T163000
DTSTAMP:20260419T090520
CREATED:20220930T170228Z
LAST-MODIFIED:20221117T213001Z
UID:10038617-1668697200-1668702600@namivt.org
SUMMARY:Burlington Connection Support Group
DESCRIPTION:Join Zoom Meetinghttps://us02web.zoom.us/j/445481065 \nMeeting ID: 445 481 065 \nOne tap mobile+16465588656\,\,445481065# US (New York)+13017158592\,\,445481065# US (Washington DC)
URL:https://namivt.org/event/burlington-connection-support-group-3613/
LOCATION:https://us02web.zoom.us/j/445481065
END:VEVENT
BEGIN:VEVENT
DTSTART;TZID=America/New_York:20221121T180000
DTEND;TZID=America/New_York:20221121T193000
DTSTAMP:20260419T090520
CREATED:20220819T163642Z
LAST-MODIFIED:20220920T163404Z
UID:10000654-1669053600-1669059000@namivt.org
SUMMARY:Williston Family Support Group
DESCRIPTION:Join Zoom Meetinghttps://us02web.zoom.us/j/219920030 \nMeeting ID: 219 920 030 \nOne tap mobile+13126266799\,\,219920030# US (Chicago)+16465588656\,\,219920030# US (New York)
URL:https://namivt.org/event/williston-family-support-group-7/
END:VEVENT
BEGIN:VEVENT
DTSTART;TZID=America/New_York:20221122T130000
DTEND;TZID=America/New_York:20221122T140000
DTSTAMP:20260419T090520
CREATED:20221114T142024Z
LAST-MODIFIED:20221122T185145Z
UID:10039977-1669122000-1669125600@namivt.org
SUMMARY:MIR Facilitator Meeting
DESCRIPTION:NAMI Vermont1 is inviting you to a scheduled Zoom meeting.\nJoin Zoom Meeting\nhttps://us02web.zoom.us/j/83435008481\nMeeting ID: 834 3500 8481\nOne tap mobile\n+16469313860\,\,83435008481# US\n+13017158592\,\,83435008481# US (Washington DC)\nDial by your location\n        +1 646 931 3860 US\n        +1 301 715 8592 US (Washington DC)\n        +1 309 205 3325 US\n        +1 312 626 6799 US (Chicago)\n        +1 646 558 8656 US (New York)\n        +1 719 359 4580 US\n        +1 253 215 8782 US (Tacoma)\n        +1 346 248 7799 US (Houston)\n        +1 360 209 5623 US\n        +1 386 347 5053 US\n        +1 507 473 4847 US\n        +1 564 217 2000 US\n        +1 669 444 9171 US\n        +1 669 900 9128 US (San Jose)\n        +1 689 278 1000 US\nMeeting ID: 834 3500 8481\nFind your local number: https://us02web.zoom.us/u/keaCPFbRHH
URL:https://namivt.org/event/mir-facilitator-meeting/
LOCATION:https://us02web.zoom.us/j/83435008481
END:VEVENT
BEGIN:VEVENT
DTSTART;TZID=America/New_York:20221122T190000
DTEND;TZID=America/New_York:20221122T203000
DTSTAMP:20260419T090520
CREATED:20220930T170232Z
LAST-MODIFIED:20221123T012736Z
UID:10038623-1669143600-1669149000@namivt.org
SUMMARY:Burlington Family Support Group
DESCRIPTION:Please feel free to call Jim Johnson  if you have any questions or need more information!802/355-0803 \nPark at the South entrance\, come through the door\, up the stairs\, and NAMI Vermont is the first office on the right.
URL:https://namivt.org/event/burlington-family-support-group-1416/
LOCATION:NAMI Vermont\, 600 Blair Park Rd\, Ste 301\, Williston\, VT
END:VEVENT
BEGIN:VEVENT
DTSTART;TZID=America/New_York:20221124T120000
DTEND;TZID=America/New_York:20221124T130000
DTSTAMP:20260419T090520
CREATED:20220819T163643Z
LAST-MODIFIED:20220825T151645Z
UID:10000656-1669291200-1669294800@namivt.org
SUMMARY:Connection Facilitators "Meet & Greet"
DESCRIPTION:Join Zoom Meeting\nhttps://us02web.zoom.us/j/81637218548
URL:https://namivt.org/event/connection-facilitators-meet-greet-5/
END:VEVENT
BEGIN:VEVENT
DTSTART;VALUE=DATE:20221125
DTEND;VALUE=DATE:20221126
DTSTAMP:20260419T090520
CREATED:20220930T170248Z
LAST-MODIFIED:20221125T235723Z
UID:10038627-1669334400-1669420799@namivt.org
SUMMARY:NAMI Vermont Office Closed in observance of the day after Thanksgiving
DESCRIPTION:
URL:https://namivt.org/event/nami-vermont-office-closed-in-observance-of-the-day-after-thanksgiving-257/
END:VEVENT
BEGIN:VEVENT
DTSTART;TZID=America/New_York:20221201T120000
DTEND;TZID=America/New_York:20221201T130000
DTSTAMP:20260419T090520
CREATED:20221006T224331Z
LAST-MODIFIED:20221110T201356Z
UID:10039497-1669896000-1669899600@namivt.org
SUMMARY:Advocacy Committee Meeting
DESCRIPTION:NAMI Vermont1 is inviting you to a scheduled Zoom meeting.\nJoin Zoom Meeting\nhttps://us02web.zoom.us/j/82387878346\nMeeting ID: 823 8787 8346\nOne tap mobile\n+16469313860\,\,82387878346# US\n+13017158592\,\,82387878346# US (Washington DC)\nDial by your location\n        +1 646 931 3860 US\n        +1 301 715 8592 US (Washington DC)\n        +1 309 205 3325 US\n        +1 312 626 6799 US (Chicago)\n        +1 646 558 8656 US (New York)\n        +1 564 217 2000 US\n        +1 669 444 9171 US\n        +1 669 900 9128 US (San Jose)\n        +1 719 359 4580 US\n        +1 253 215 8782 US (Tacoma)\n        +1 346 248 7799 US (Houston)\n        +1 386 347 5053 US\nMeeting ID: 823 8787 8346\nFind your local number: https://us02web.zoom.us/u/kcAYmT4oK5
URL:https://namivt.org/event/advocacy-committee-meeting-283/
LOCATION:https://us02web.zoom.us/j/82387878346
END:VEVENT
BEGIN:VEVENT
DTSTART;TZID=America/New_York:20221201T150000
DTEND;TZID=America/New_York:20221201T163000
DTSTAMP:20260419T090520
CREATED:20220930T170251Z
LAST-MODIFIED:20221123T142746Z
UID:10038632-1669906800-1669912200@namivt.org
SUMMARY:Burlington Connection Support Group
DESCRIPTION:Join Zoom Meetinghttps://us02web.zoom.us/j/445481065 \nMeeting ID: 445 481 065 \nOne tap mobile+16465588656\,\,445481065# US (New York)+13017158592\,\,445481065# US (Washington DC)
URL:https://namivt.org/event/burlington-connection-support-group-3615/
LOCATION:https://us02web.zoom.us/j/445481065
END:VEVENT
BEGIN:VEVENT
DTSTART;VALUE=DATE:20221203
DTEND;VALUE=DATE:20221205
DTSTAMP:20260419T090520
CREATED:20220928T194428Z
LAST-MODIFIED:20221204T234300Z
UID:10026575-1670025600-1670198399@namivt.org
SUMMARY:NAMITrain the Trainer - Online
DESCRIPTION:
URL:https://namivt.org/event/namitrain-the-trainer-online-173/
END:VEVENT
BEGIN:VEVENT
DTSTART;TZID=America/New_York:20221203T130000
DTEND;TZID=America/New_York:20221203T163000
DTSTAMP:20260419T090520
CREATED:20221006T215832Z
LAST-MODIFIED:20221203T212846Z
UID:10039494-1670072400-1670085000@namivt.org
SUMMARY:POSTPONED: NAMI Smarts Training (Module 1: Telling Your Story) - POSTPONED to early January 2023
DESCRIPTION:NAMI Vermont1 is inviting you to a scheduled Zoom meeting.\nJoin Zoom Meeting\nhttps://us02web.zoom.us/j/87097652288\nMeeting ID: 870 9765 2288\nOne tap mobile\n+13126266799\,\,87097652288# US (Chicago)\n+16465588656\,\,87097652288# US (New York)\nDial by your location\n        +1 312 626 6799 US (Chicago)\n        +1 646 558 8656 US (New York)\n        +1 646 931 3860 US\n        +1 301 715 8592 US (Washington DC)\n        +1 309 205 3325 US\n        +1 669 444 9171 US\n        +1 669 900 9128 US (San Jose)\n        +1 719 359 4580 US\n        +1 253 215 8782 US (Tacoma)\n        +1 346 248 7799 US (Houston)\n        +1 386 347 5053 US\n        +1 564 217 2000 US\nMeeting ID: 870 9765 2288\nFind your local number: https://us02web.zoom.us/u/ktpCJkpgE
URL:https://namivt.org/event/nami-smarts-training-module-1-telling-your-story/
LOCATION:https://us02web.zoom.us/j/87097652288
END:VEVENT
BEGIN:VEVENT
DTSTART;TZID=America/New_York:20221205T180000
DTEND;TZID=America/New_York:20221205T193000
DTSTAMP:20260419T090520
CREATED:20220819T163654Z
LAST-MODIFIED:20220920T163405Z
UID:10000665-1670263200-1670268600@namivt.org
SUMMARY:Williston Family Support Group
DESCRIPTION:Join Zoom Meetinghttps://us02web.zoom.us/j/84592752810 \nMeeting ID: 845 9275 2810 \nOne tap mobile+13017158592\,\,84592752810# US (Washington DC)+13126266799\,\,84592752810# US (Chicago)
URL:https://namivt.org/event/williston-family-support-group-8/
END:VEVENT
BEGIN:VEVENT
DTSTART;TZID=America/New_York:20221206T180000
DTEND;TZID=America/New_York:20221206T193000
DTSTAMP:20260419T090520
CREATED:20220930T174445Z
LAST-MODIFIED:20221123T155810Z
UID:10038799-1670349600-1670355000@namivt.org
SUMMARY:Georgia Family Support Group
DESCRIPTION:Join Zoom Meetinghttps://us02web.zoom.us/j/625544744 \nMeeting ID: 625 544 744 \nOne tap mobile+13126266799\,\,625544744# US (Chicago)+16465588656\,\,625544744# US (New York)
URL:https://namivt.org/event/georgia-family-support-group-788/
END:VEVENT
BEGIN:VEVENT
DTSTART;TZID=America/New_York:20221207T183000
DTEND;TZID=America/New_York:20221207T200000
DTSTAMP:20260419T090520
CREATED:20220930T174450Z
LAST-MODIFIED:20221123T155810Z
UID:10038801-1670437800-1670443200@namivt.org
SUMMARY:Brattleboro Family Support Group
DESCRIPTION:Join Zoom Meetinghttps://us02web.zoom.us/j/484314475 \nMeeting ID: 484 314 475 \nOne tap mobile+16465588656\,\,484314475# US (New York)+13017158592\,\,484314475# US (Washington DC)
URL:https://namivt.org/event/brattleboro-family-support-group-796/
END:VEVENT
BEGIN:VEVENT
DTSTART;TZID=America/New_York:20221208T130000
DTEND;TZID=America/New_York:20221208T140000
DTSTAMP:20260419T090520
CREATED:20220930T170310Z
LAST-MODIFIED:20221123T155810Z
UID:10038642-1670504400-1670508000@namivt.org
SUMMARY:Affiliate Leaders Meeting (Monthly)
DESCRIPTION:Join Zoom Meetinghttps://us02web.zoom.us/j/85476245746 \nMeeting ID: 854 7624 5746One tap mobile+16465588656\,\,85476245746# US (New York)+13017158592\,\,85476245746# US (Washington DC)
URL:https://namivt.org/event/affiliate-leaders-meeting-monthly-5843/
END:VEVENT
BEGIN:VEVENT
DTSTART;TZID=America/New_York:20221208T150000
DTEND;TZID=America/New_York:20221208T163000
DTSTAMP:20260419T090520
CREATED:20220928T181504Z
LAST-MODIFIED:20221208T153228Z
UID:10026290-1670511600-1670517000@namivt.org
SUMMARY:Burlington Connection Support Group
DESCRIPTION:Join Zoom Meetinghttps://us02web.zoom.us/j/445481065 \nMeeting ID: 445 481 065 \nOne tap mobile+16465588656\,\,445481065# US (New York)+13017158592\,\,445481065# US (Washington DC)
URL:https://namivt.org/event/burlington-connection-support-group-2415/
LOCATION:https://us02web.zoom.us/j/445481065
END:VEVENT
END:VCALENDAR