BEGIN:VCALENDAR
VERSION:2.0
PRODID:-//NAMI Vermont - ECPv6.15.17.1//NONSGML v1.0//EN
CALSCALE:GREGORIAN
METHOD:PUBLISH
X-ORIGINAL-URL:https://namivt.org
X-WR-CALDESC:Events for NAMI Vermont
REFRESH-INTERVAL;VALUE=DURATION:PT1H
X-Robots-Tag:noindex
X-PUBLISHED-TTL:PT1H
BEGIN:VTIMEZONE
TZID:America/New_York
BEGIN:DAYLIGHT
TZOFFSETFROM:-0500
TZOFFSETTO:-0400
TZNAME:EDT
DTSTART:20220313T070000
END:DAYLIGHT
BEGIN:STANDARD
TZOFFSETFROM:-0400
TZOFFSETTO:-0500
TZNAME:EST
DTSTART:20221106T060000
END:STANDARD
BEGIN:DAYLIGHT
TZOFFSETFROM:-0500
TZOFFSETTO:-0400
TZNAME:EDT
DTSTART:20230312T070000
END:DAYLIGHT
BEGIN:STANDARD
TZOFFSETFROM:-0400
TZOFFSETTO:-0500
TZNAME:EST
DTSTART:20231105T060000
END:STANDARD
BEGIN:DAYLIGHT
TZOFFSETFROM:-0500
TZOFFSETTO:-0400
TZNAME:EDT
DTSTART:20240310T070000
END:DAYLIGHT
BEGIN:STANDARD
TZOFFSETFROM:-0400
TZOFFSETTO:-0500
TZNAME:EST
DTSTART:20241103T060000
END:STANDARD
END:VTIMEZONE
BEGIN:VEVENT
DTSTART;TZID=America/New_York:20230912T160000
DTEND;TZID=America/New_York:20230912T180000
DTSTAMP:20260423T015051
CREATED:20230815T205031Z
LAST-MODIFIED:20230912T214619Z
UID:10047604-1694534400-1694541600@namivt.org
SUMMARY:NAMI Vermont Board of Directors Meeting
DESCRIPTION:NAMI Vermont1 is inviting you to a scheduled Zoom meeting.\nJoin Zoom Meeting\nhttps://us02web.zoom.us/j/87384561813\nMeeting ID: 873 8456 1813\n—\nOne tap mobile\n+13126266799\,\,87384561813# US (Chicago)\n+16465588656\,\,87384561813# US (New York)\n—\nDial by your location\n• +1 312 626 6799 US (Chicago)\n• +1 646 558 8656 US (New York)\n• +1 646 931 3860 US\n• +1 301 715 8592 US (Washington DC)\n• +1 305 224 1968 US\n• +1 309 205 3325 US\n• +1 253 215 8782 US (Tacoma)\n• +1 346 248 7799 US (Houston)\n• +1 360 209 5623 US\n• +1 386 347 5053 US\n• +1 507 473 4847 US\n• +1 564 217 2000 US\n• +1 669 444 9171 US\n• +1 669 900 9128 US (San Jose)\n• +1 689 278 1000 US\n• +1 719 359 4580 US\n• +1 253 205 0468 US\nMeeting ID: 873 8456 1813\nFind your local number: https://us02web.zoom.us/u/kbzKcuyA4D
URL:https://namivt.org/event/nami-vermont-board-of-directors-meeting/
LOCATION:https://us02web.zoom.us/j/87384561813
END:VEVENT
END:VCALENDAR